BEGIN:VCALENDAR
VERSION:2.0
PRODID:-//eventon.com NONSGML v1.0//EN
CALSCALE:GREGORIAN
METHOD:PUBLISH
BEGIN:VEVENT
UID:69e4023a65b17
DTSTAMP:20260418T221418Z
DTSTART:20210724
DTEND:20210725
LOCATION:Kimpton Taconic Hotel 3835 Main St.
SUMMARY:Private Party (sorry)
DESCRIPTION:\nhttps://vintagedrummerny.com/archives/events/private-party-so
 rry-107
URL:https://vintagedrummerny.com/archives/events/private-party-sorry-107
END:VEVENT
END:VCALENDAR