BEGIN:VCALENDAR
VERSION:2.0
PRODID:-//eventon.com NONSGML v1.0//EN
CALSCALE:GREGORIAN
METHOD:PUBLISH
BEGIN:VEVENT
UID:69e7bb5d6fa9f
DTSTAMP:20260421T180101Z
DTSTART:20211029
DTEND:20211030
LOCATION:Birch Hill 1 Celebration Way\,  Castleton-on-Hudson\,  NY 12033
SUMMARY:Private Party (sorry)
DESCRIPTION:\nhttps://vintagedrummerny.com/archives/events/private-party-so
 rry-132
URL:https://vintagedrummerny.com/archives/events/private-party-sorry-132
END:VEVENT
END:VCALENDAR