BEGIN:VCALENDAR
VERSION:2.0
PRODID:-//eventon.com NONSGML v1.0//EN
CALSCALE:GREGORIAN
METHOD:PUBLISH
BEGIN:VEVENT
UID:69e878882d3f0
DTSTAMP:20260422T072808Z
DTSTART:20191019T130000Z
DTEND:20191019T151500Z
LOCATION:UAlbany 1400 Washington Avenue
SUMMARY:UAlbany Homecoming - Great Dane Game Day
DESCRIPTION:1:00-3:15 p.m. — Great Dane Game Day\,  Adjacent to Bob Fo
 rd Field at Tom &amp; Mary Casey Stadium Get into the UAlbany spirit before
  watching UAlbany take on Towson in the Homecoming football game! Enjoy a l
 unch buffet\,  live music and family-fun activities with other Great Danes 
 fans. Package includes buffet and football[..]\nhttps://vintagedrummerny.co
 m/archives/events/ualbany-homecoming-great-dane-game-day-2
URL:https://vintagedrummerny.com/archives/events/ualbany-homecoming-great-dane-game-day-2
END:VEVENT
END:VCALENDAR