BEGIN:VCALENDAR
VERSION:2.0
PRODID:-//eventon.com NONSGML v1.0//EN
CALSCALE:GREGORIAN
METHOD:PUBLISH
BEGIN:VEVENT
UID:69e8296b3fb5d
DTSTAMP:20260422T015035Z
DTSTART:20190928
DTEND:20190929
LOCATION:Chestertown
SUMMARY:Private Party (sorry)
DESCRIPTION:\nhttps://vintagedrummerny.com/archives/events/private-party-so
 rry-98
URL:https://vintagedrummerny.com/archives/events/private-party-sorry-98
END:VEVENT
END:VCALENDAR