BEGIN:VCALENDAR
VERSION:2.0
PRODID:-//eventon.com NONSGML v1.0//EN
CALSCALE:GREGORIAN
METHOD:PUBLISH
BEGIN:VEVENT
UID:69e6b69b72bd0
DTSTAMP:20260420T232827Z
DTSTART:20160716T190000Z
DTEND:20160716T010000Z
LOCATION:Copake KOA 2236 Co Rd 7\,  Copake\,  NY 12516
SUMMARY:Copake KOA
DESCRIPTION:\nhttps://vintagedrummerny.com/archives/events/copake-koa-2
URL:https://vintagedrummerny.com/archives/events/copake-koa-2
END:VEVENT
END:VCALENDAR