BEGIN:VCALENDAR
VERSION:2.0
PRODID:-//eventon.com NONSGML v1.0//EN
CALSCALE:GREGORIAN
METHOD:PUBLISH
BEGIN:VEVENT
UID:69e602999fefa
DTSTAMP:20260420T104025Z
DTSTART:20160702
DTEND:20160703
LOCATION:Hedges Lake Pocantico Hills\,  NY
SUMMARY:Private Party (sorry) Hedge's LakeFest
DESCRIPTION:\nhttps://vintagedrummerny.com/archives/events/private-party-so
 rry-hedges-lakefest
URL:https://vintagedrummerny.com/archives/events/private-party-sorry-hedges-lakefest
END:VEVENT
END:VCALENDAR