BEGIN:VCALENDAR
VERSION:2.0
PRODID:-//eventon.com NONSGML v1.0//EN
CALSCALE:GREGORIAN
METHOD:PUBLISH
BEGIN:VEVENT
UID:69eb149f14fa1
DTSTAMP:20260424T065839Z
DTSTART:20151217
DTEND:20151218
LOCATION:90 State 90 State Street\,  Albany\,  NY
SUMMARY:Private Party (sorry)
DESCRIPTION:\nhttps://vintagedrummerny.com/archives/events/private-party-so
 rry-31
URL:https://vintagedrummerny.com/archives/events/private-party-sorry-31
END:VEVENT
END:VCALENDAR