BEGIN:VCALENDAR
VERSION:2.0
PRODID:-//eventon.com NONSGML v1.0//EN
CALSCALE:GREGORIAN
METHOD:PUBLISH
BEGIN:VEVENT
UID:69eb141560a35
DTSTAMP:20260424T065621Z
DTSTART:20151216
DTEND:20151217
LOCATION:Chez Josef 176 Shoemaker Lane\,  Agawam\,  MA 01001
SUMMARY:Private Party (sorry)
DESCRIPTION:\nhttps://vintagedrummerny.com/archives/events/private-party-so
 rry-30
URL:https://vintagedrummerny.com/archives/events/private-party-sorry-30
END:VEVENT
END:VCALENDAR