BEGIN:VCALENDAR
VERSION:2.0
PRODID:-//eventon.com NONSGML v1.0//EN
CALSCALE:GREGORIAN
METHOD:PUBLISH
BEGIN:VEVENT
UID:69e5ebcab31bc
DTSTAMP:20260420T090306Z
DTSTART:20160521
DTEND:20160522
LOCATION:The Inn at Erlowest 3178 Lake Shore Drive\,  Lake George\,  NY 12845
SUMMARY:Private Party (sorry)
DESCRIPTION:\nhttps://vintagedrummerny.com/archives/events/private-party-so
 rry-27
URL:https://vintagedrummerny.com/archives/events/private-party-sorry-27
END:VEVENT
END:VCALENDAR