BEGIN:VCALENDAR
VERSION:2.0
PRODID:-//eventon.com NONSGML v1.0//EN
CALSCALE:GREGORIAN
METHOD:PUBLISH
BEGIN:VEVENT
UID:69eb14e77d0e1
DTSTAMP:20260424T065951Z
DTSTART:20150913T130000Z
DTEND:20150913T010000Z
LOCATION:Ny
SUMMARY:Uncle Sam Parade
DESCRIPTION:\nhttps://vintagedrummerny.com/archives/events/uncle-sam-parade
URL:https://vintagedrummerny.com/archives/events/uncle-sam-parade
END:VEVENT
END:VCALENDAR