BEGIN:VCALENDAR
VERSION:2.0
PRODID:-//eventon.com NONSGML v1.0//EN
CALSCALE:GREGORIAN
METHOD:PUBLISH
BEGIN:VEVENT
UID:69eb1456bc887
DTSTAMP:20260424T065726Z
DTSTART:20150906
DTEND:20150907
LOCATION:Port Jefferson Fire House 115 Maple Pl\,  Port Jefferson\,  NY 11777
SUMMARY:Private Party (sorry) Port Jefferson\,  Long island\,  NY
DESCRIPTION:\nhttps://vintagedrummerny.com/archives/events/private-party-so
 rry-port-jefferson-long-island-ny
URL:https://vintagedrummerny.com/archives/events/private-party-sorry-port-jefferson-long-island-ny
END:VEVENT
END:VCALENDAR