BEGIN:VCALENDAR
VERSION:2.0
PRODID:-//eventon.com NONSGML v1.0//EN
CALSCALE:GREGORIAN
METHOD:PUBLISH
BEGIN:VEVENT
UID:69eb145818555
DTSTAMP:20260424T065728Z
DTSTART:20150827T063000Z
DTEND:20150827T010000Z
LOCATION:Uncle Marty&#039;s Adirondack Grill 2930 Rt 43\,  Averill Park\,  NY 12018
SUMMARY:Uncle Marty's Adirondack Grill Summer Concert Series
DESCRIPTION:\nhttps://vintagedrummerny.com/archives/events/uncle-martys-adi
 rondack-grill-summer-concert-series
URL:https://vintagedrummerny.com/archives/events/uncle-martys-adirondack-grill-summer-concert-series
END:VEVENT
END:VCALENDAR