BEGIN:VCALENDAR
VERSION:2.0
PRODID:-//eventon.com NONSGML v1.0//EN
CALSCALE:GREGORIAN
METHOD:PUBLISH
BEGIN:VEVENT
UID:69eb14c46e1b9
DTSTAMP:20260424T065916Z
DTSTART:20150822
DTEND:20150823
LOCATION:Waters Edge Lighthouse 2 Freemans Bridge Rd\,  Schenectady\,  NY 12302
SUMMARY:Private Party (sorry)
DESCRIPTION:\nhttps://vintagedrummerny.com/archives/events/private-party-so
 rry-23
URL:https://vintagedrummerny.com/archives/events/private-party-sorry-23
END:VEVENT
END:VCALENDAR