BEGIN:VCALENDAR
VERSION:2.0
PRODID:-//eventon.com NONSGML v1.0//EN
CALSCALE:GREGORIAN
METHOD:PUBLISH
BEGIN:VEVENT
UID:69eb14c55ef1d
DTSTAMP:20260424T065917Z
DTSTART:20150821T210000Z
DTEND:20150821T010000Z
LOCATION:Dango&#039;s 38 Caroline St.\,  Saratoga Springs\,  NY 12866
SUMMARY:Dango's
DESCRIPTION:\nhttps://vintagedrummerny.com/archives/events/dangos-8
URL:https://vintagedrummerny.com/archives/events/dangos-8
END:VEVENT
END:VCALENDAR