BEGIN:VCALENDAR
VERSION:2.0
PRODID:-//eventon.com NONSGML v1.0//EN
CALSCALE:GREGORIAN
METHOD:PUBLISH
BEGIN:VEVENT
UID:69e68ef624e9f
DTSTAMP:20260420T203918Z
DTSTART:20150820T190000Z
DTEND:20150820T010000Z
LOCATION:West Glens Falls Fire House West Glens Falls\,  NY 12801
SUMMARY:West Glens Falls Fire Department Carnival / Fundraiser
DESCRIPTION:\nhttps://vintagedrummerny.com/archives/events/west-glens-falls
 -fire-department-carnival-fundraiser
URL:https://vintagedrummerny.com/archives/events/west-glens-falls-fire-department-carnival-fundraiser
END:VEVENT
END:VCALENDAR