BEGIN:VCALENDAR
VERSION:2.0
PRODID:-//eventon.com NONSGML v1.0//EN
CALSCALE:GREGORIAN
METHOD:PUBLISH
BEGIN:VEVENT
UID:69eb14bda26ef
DTSTAMP:20260424T065909Z
DTSTART:20150816T190000Z
DTEND:20150816T010000Z
LOCATION:Altamont Fair 129 Grand\,  Altamont\,  NY 12009
SUMMARY:Altamont Fair
DESCRIPTION:\nhttps://vintagedrummerny.com/archives/events/altamont-fair
URL:https://vintagedrummerny.com/archives/events/altamont-fair
END:VEVENT
END:VCALENDAR