BEGIN:VCALENDAR
VERSION:2.0
PRODID:-//eventon.com NONSGML v1.0//EN
CALSCALE:GREGORIAN
METHOD:PUBLISH
BEGIN:VEVENT
UID:69eb15173f083
DTSTAMP:20260424T070039Z
DTSTART:20150808
DTEND:20150809
LOCATION:Glen Sanders Mansion 1 Glen Ave\,  Scotia\,  NY 12302
SUMMARY:Private Party (sorry)
DESCRIPTION:\nhttps://vintagedrummerny.com/archives/events/private-party-so
 rry-22
URL:https://vintagedrummerny.com/archives/events/private-party-sorry-22
END:VEVENT
END:VCALENDAR