BEGIN:VCALENDAR
VERSION:2.0
PRODID:-//eventon.com NONSGML v1.0//EN
CALSCALE:GREGORIAN
METHOD:PUBLISH
BEGIN:VEVENT
UID:69eb1516b7420
DTSTAMP:20260424T070038Z
DTSTART:20150807T210000Z
DTEND:20150807T010000Z
LOCATION:Dango&#039;s 38 Caroline St.\,  Saratoga Springs\,  NY 12866
SUMMARY:Dango's
DESCRIPTION:\nhttps://vintagedrummerny.com/archives/events/dangos-7
URL:https://vintagedrummerny.com/archives/events/dangos-7
END:VEVENT
END:VCALENDAR