BEGIN:VCALENDAR
VERSION:2.0
PRODID:-//eventon.com NONSGML v1.0//EN
CALSCALE:GREGORIAN
METHOD:PUBLISH
BEGIN:VEVENT
UID:69eb1417c6692
DTSTAMP:20260424T065623Z
DTSTART:20150726T180000Z
DTEND:20150726T010000Z
LOCATION:Nanola 2639 U.S. 9\,  Malta\,  NY 12020
SUMMARY:Nanola
DESCRIPTION:\nhttps://vintagedrummerny.com/archives/events/nanola-8
URL:https://vintagedrummerny.com/archives/events/nanola-8
END:VEVENT
END:VCALENDAR