BEGIN:VCALENDAR
VERSION:2.0
PRODID:-//eventon.com NONSGML v1.0//EN
CALSCALE:GREGORIAN
METHOD:PUBLISH
BEGIN:VEVENT
UID:69eb15315117d
DTSTAMP:20260424T070105Z
DTSTART:20150725T210000Z
DTEND:20150725T010000Z
LOCATION:Centre Streer Pub 308 Union St\,  Schenectady\,  NY 12305
SUMMARY:Centre Street Pub
DESCRIPTION:\nhttps://vintagedrummerny.com/archives/events/centre-street-pu
 b-8
URL:https://vintagedrummerny.com/archives/events/centre-street-pub-8
END:VEVENT
END:VCALENDAR