BEGIN:VCALENDAR
VERSION:2.0
PRODID:-//eventon.com NONSGML v1.0//EN
CALSCALE:GREGORIAN
METHOD:PUBLISH
BEGIN:VEVENT
UID:69eb1531ee1d0
DTSTAMP:20260424T070105Z
DTSTART:20150724T210000Z
DTEND:20150724T010000Z
LOCATION:Dango&#039;s 38 Caroline St.\,  Saratoga Springs\,  NY 12866
SUMMARY:Dango's
DESCRIPTION:\nhttps://vintagedrummerny.com/archives/events/dangos-5
URL:https://vintagedrummerny.com/archives/events/dangos-5
END:VEVENT
END:VCALENDAR