BEGIN:VCALENDAR
VERSION:2.0
PRODID:-//eventon.com NONSGML v1.0//EN
CALSCALE:GREGORIAN
METHOD:PUBLISH
BEGIN:VEVENT
UID:69eb14e85863a
DTSTAMP:20260424T065952Z
DTSTART:20150516
DTEND:20150517
LOCATION:Revolution Hall 417 River St.\,  Troy\,  NY 12180
SUMMARY:Private Party (sorry)
DESCRIPTION:\nhttps://vintagedrummerny.com/archives/events/private-party-so
 rry-19
URL:https://vintagedrummerny.com/archives/events/private-party-sorry-19
END:VEVENT
END:VCALENDAR