BEGIN:VCALENDAR
VERSION:2.0
PRODID:-//eventon.com NONSGML v1.0//EN
CALSCALE:GREGORIAN
METHOD:PUBLISH
BEGIN:VEVENT
UID:69eb14e898f32
DTSTAMP:20260424T065952Z
DTSTART:20150522
DTEND:20150523
LOCATION:Timber Point Gold Club 150 River Rd\,  Great River\,  NY 11739
SUMMARY:Private Party (sorry) Long Island\,  NY
DESCRIPTION:\nhttps://vintagedrummerny.com/archives/events/private-party-so
 rry-long-island-ny
URL:https://vintagedrummerny.com/archives/events/private-party-sorry-long-island-ny
END:VEVENT
END:VCALENDAR