BEGIN:VCALENDAR
VERSION:2.0
PRODID:-//eventon.com NONSGML v1.0//EN
CALSCALE:GREGORIAN
METHOD:PUBLISH
BEGIN:VEVENT
UID:69eb14c502167
DTSTAMP:20260424T065917Z
DTSTART:20150718
DTEND:20150719
LOCATION:Peak &#039;N&#039; Peek Resort 1405 Old Rd\,  Clymer\,  NY 14724
SUMMARY:Private Party (sorry) Clymer\,  NY
DESCRIPTION:\nhttps://vintagedrummerny.com/archives/events/private-party-so
 rry-clymer-ny
URL:https://vintagedrummerny.com/archives/events/private-party-sorry-clymer-ny
END:VEVENT
END:VCALENDAR