BEGIN:VCALENDAR
VERSION:2.0
PRODID:-//eventon.com NONSGML v1.0//EN
CALSCALE:GREGORIAN
METHOD:PUBLISH
BEGIN:VEVENT
UID:69eb14e7899cf
DTSTAMP:20260424T065951Z
DTSTART:20150705T190000Z
DTEND:20150705T010000Z
LOCATION:Copake KOA 2236 Co Rd 7\,  Copake\,  NY 12516
SUMMARY:Copake KOA
DESCRIPTION:\nhttps://vintagedrummerny.com/archives/events/copake-koa
URL:https://vintagedrummerny.com/archives/events/copake-koa
END:VEVENT
END:VCALENDAR