BEGIN:VCALENDAR
VERSION:2.0
PRODID:-//eventon.com NONSGML v1.0//EN
CALSCALE:GREGORIAN
METHOD:PUBLISH
BEGIN:VEVENT
UID:69eb14173b446
DTSTAMP:20260424T065623Z
DTSTART:20150625T180000Z
DTEND:20150625T010000Z
LOCATION:Wiswalll Park 39 Front St\,  Ballston Spa\,  NY 12020
SUMMARY:Ballston Spa Concert Series
DESCRIPTION:\nhttps://vintagedrummerny.com/archives/events/ballston-spa-con
 cert-series
URL:https://vintagedrummerny.com/archives/events/ballston-spa-concert-series
END:VEVENT
END:VCALENDAR