BEGIN:VCALENDAR
VERSION:2.0
PRODID:-//eventon.com NONSGML v1.0//EN
CALSCALE:GREGORIAN
METHOD:PUBLISH
BEGIN:VEVENT
UID:69eb14e786d3e
DTSTAMP:20260424T065951Z
DTSTART:20150620T180000Z
DTEND:20150620T010000Z
LOCATION:Charles R. Wood Park 17 W Brook Rd\,  Lake George\,  NY 12845
SUMMARY:HVVFFA Convention Awards Concert
DESCRIPTION:\nhttps://vintagedrummerny.com/archives/events/hvvffa-conventio
 n-awards-concert
URL:https://vintagedrummerny.com/archives/events/hvvffa-convention-awards-concert
END:VEVENT
END:VCALENDAR