BEGIN:VCALENDAR
VERSION:2.0
PRODID:-//eventon.com NONSGML v1.0//EN
CALSCALE:GREGORIAN
METHOD:PUBLISH
BEGIN:VEVENT
UID:69eb14e7829c4
DTSTAMP:20260424T065951Z
DTSTART:20150614T130000Z
DTEND:20150614T010000Z
LOCATION:Saratoga Springs Saratoga Springs\,  NY 12866
SUMMARY:Troy Flag Day Parade
DESCRIPTION:\nhttps://vintagedrummerny.com/archives/events/troy-flag-day-pa
 rade
URL:https://vintagedrummerny.com/archives/events/troy-flag-day-parade
END:VEVENT
END:VCALENDAR