BEGIN:VCALENDAR
VERSION:2.0
PRODID:-//eventon.com NONSGML v1.0//EN
CALSCALE:GREGORIAN
METHOD:PUBLISH
BEGIN:VEVENT
UID:69e3e51d26e60
DTSTAMP:20260418T201005Z
DTSTART:20150617T190000Z
DTEND:20150617T010000Z
LOCATION:Freedom Park Schonowee Ave.\,  Scotia\,  NY 12302
SUMMARY:Freedom Park
DESCRIPTION:\nhttps://vintagedrummerny.com/archives/events/freedom-park
URL:https://vintagedrummerny.com/archives/events/freedom-park
END:VEVENT
END:VCALENDAR