BEGIN:VCALENDAR
VERSION:2.0
PRODID:-//eventon.com NONSGML v1.0//EN
CALSCALE:GREGORIAN
METHOD:PUBLISH
BEGIN:VEVENT
UID:69eb14bdc42b2
DTSTAMP:20260424T065909Z
DTSTART:20150508T210000Z
DTEND:20150508T010000Z
LOCATION:Rustic Barn 150 Speigletown Rd\,  Troy\,  NY 12182
SUMMARY:Rustic Barn
DESCRIPTION:\nhttps://vintagedrummerny.com/archives/events/rustic-barn-2
URL:https://vintagedrummerny.com/archives/events/rustic-barn-2
END:VEVENT
END:VCALENDAR