BEGIN:VCALENDAR
VERSION:2.0
PRODID:-//eventon.com NONSGML v1.0//EN
CALSCALE:GREGORIAN
METHOD:PUBLISH
BEGIN:VEVENT
UID:69eb1507a2b85
DTSTAMP:20260424T070023Z
DTSTART:20150509
DTEND:20150510
LOCATION:Jimbo's at the Point on Brant Lake 7201 NY-8\,  Brant Lake\,  NY 12815
SUMMARY:Private Party (sorry)
DESCRIPTION:\nhttps://vintagedrummerny.com/archives/events/private-party-so
 rry-15
URL:https://vintagedrummerny.com/archives/events/private-party-sorry-15
END:VEVENT
END:VCALENDAR