BEGIN:VCALENDAR
VERSION:2.0
PRODID:-//eventon.com NONSGML v1.0//EN
CALSCALE:GREGORIAN
METHOD:PUBLISH
BEGIN:VEVENT
UID:69eb150786312
DTSTAMP:20260424T070023Z
DTSTART:20150228T180000Z
DTEND:20150228T010000Z
LOCATION:Mohonasen High School 2072 Curry Rd\,  Schenectady\,  NY 12303
SUMMARY:Mohonasen Indoor Guard Show Exhibition
DESCRIPTION:    \nhttps://vintagedrummerny.com/archives/events/mohonase
 n-indoor-guard-show-exhibition
URL:https://vintagedrummerny.com/archives/events/mohonasen-indoor-guard-show-exhibition
END:VEVENT
END:VCALENDAR