BEGIN:VCALENDAR
VERSION:2.0
PRODID:-//eventon.com NONSGML v1.0//EN
CALSCALE:GREGORIAN
METHOD:PUBLISH
BEGIN:VEVENT
UID:69eb151770cfd
DTSTAMP:20260424T070039Z
DTSTART:20150411T130000Z
DTEND:20150411T010000Z
LOCATION:
SUMMARY:Hunter Mountain CoCo Beach Bash
DESCRIPTION:\nhttps://vintagedrummerny.com/archives/events/hunter-mountain-
 coco-beach-bash
URL:https://vintagedrummerny.com/archives/events/hunter-mountain-coco-beach-bash
END:VEVENT
END:VCALENDAR