BEGIN:VCALENDAR
VERSION:2.0
PRODID:-//eventon.com NONSGML v1.0//EN
CALSCALE:GREGORIAN
METHOD:PUBLISH
BEGIN:VEVENT
UID:69eb1507ef854
DTSTAMP:20260424T070023Z
DTSTART:20150403T210000Z
DTEND:20150403T010000Z
LOCATION:Katie O&#039;Byrne&#039;s Erie Blvd\,  Schenectady\,  NY 12305
SUMMARY:Katie O'Byrne's
DESCRIPTION:\nhttps://vintagedrummerny.com/archives/events/katie-obyrnes-4
URL:https://vintagedrummerny.com/archives/events/katie-obyrnes-4
END:VEVENT
END:VCALENDAR