BEGIN:VCALENDAR
VERSION:2.0
PRODID:-//eventon.com NONSGML v1.0//EN
CALSCALE:GREGORIAN
METHOD:PUBLISH
BEGIN:VEVENT
UID:69eb14514f87f
DTSTAMP:20260424T065721Z
DTSTART:20150320T190000Z
DTEND:20150320T010000Z
LOCATION:Hilton Gardens 30 Clifton Country Rd.\,  Clifton Park\,  NY 12065
SUMMARY:Emerald Ball
DESCRIPTION:\nhttps://vintagedrummerny.com/archives/events/emerald-ball
URL:https://vintagedrummerny.com/archives/events/emerald-ball
END:VEVENT
END:VCALENDAR