BEGIN:VCALENDAR
VERSION:2.0
PRODID:-//eventon.com NONSGML v1.0//EN
CALSCALE:GREGORIAN
METHOD:PUBLISH
BEGIN:VEVENT
UID:69eb14bd5572d
DTSTAMP:20260424T065909Z
DTSTART:20150308T160000Z
DTEND:20150308T010000Z
LOCATION:
SUMMARY:Bartender's Bash Weekend at Hunter Mountain
DESCRIPTION:    \nhttps://vintagedrummerny.com/archives/events/bartende
 rs-bash-weekend-at-hunter-mountain
URL:https://vintagedrummerny.com/archives/events/bartenders-bash-weekend-at-hunter-mountain
END:VEVENT
END:VCALENDAR