BEGIN:VCALENDAR
VERSION:2.0
PRODID:-//eventon.com NONSGML v1.0//EN
CALSCALE:GREGORIAN
METHOD:PUBLISH
BEGIN:VEVENT
UID:69eb149ecdddd
DTSTAMP:20260424T065838Z
DTSTART:20150307T220000Z
DTEND:20150307T010000Z
LOCATION:Stout 904 Broadway\,  Albany\,  NY 12207
SUMMARY:Stout
DESCRIPTION:\nhttps://vintagedrummerny.com/archives/events/stout-4
URL:https://vintagedrummerny.com/archives/events/stout-4
END:VEVENT
END:VCALENDAR