BEGIN:VCALENDAR
VERSION:2.0
PRODID:-//eventon.com NONSGML v1.0//EN
CALSCALE:GREGORIAN
METHOD:PUBLISH
BEGIN:VEVENT
UID:69eb1451efbe9
DTSTAMP:20260424T065721Z
DTSTART:20150131T160000Z
DTEND:20150131T010000Z
LOCATION:
SUMMARY:Hunter Mountain
DESCRIPTION:\nhttps://vintagedrummerny.com/archives/events/hunter-mountain
URL:https://vintagedrummerny.com/archives/events/hunter-mountain
END:VEVENT
END:VCALENDAR