BEGIN:VCALENDAR
VERSION:2.0
PRODID:-//eventon.com NONSGML v1.0//EN
CALSCALE:GREGORIAN
METHOD:PUBLISH
BEGIN:VEVENT
UID:69eb153173cd7
DTSTAMP:20260424T070105Z
DTSTART:20150116T223000Z
DTEND:20150116T010000Z
LOCATION:JP Bruno&#039;s 30 South St.\,  Glens Falls\,  NY 12801
SUMMARY:JP Bruno's
DESCRIPTION:\nhttps://vintagedrummerny.com/archives/events/jp-brunos
URL:https://vintagedrummerny.com/archives/events/jp-brunos
END:VEVENT
END:VCALENDAR