BEGIN:VCALENDAR
VERSION:2.0
PRODID:-//eventon.com NONSGML v1.0//EN
CALSCALE:GREGORIAN
METHOD:PUBLISH
BEGIN:VEVENT
UID:69eb141688e64
DTSTAMP:20260424T065622Z
DTSTART:20151231T180000Z
DTEND:20151231T010000Z
LOCATION:The Sagamore 110 Sagamore Rd.\,  Bolton Landing\,  NY 12814
SUMMARY:New Year's Eve at The Sagamore
DESCRIPTION:    \nhttps://vintagedrummerny.com/archives/events/new-year
 s-eve-at-the-sagamore
URL:https://vintagedrummerny.com/archives/events/new-years-eve-at-the-sagamore
END:VEVENT
END:VCALENDAR