BEGIN:VCALENDAR
VERSION:2.0
PRODID:-//eventon.com NONSGML v1.0//EN
CALSCALE:GREGORIAN
METHOD:PUBLISH
BEGIN:VEVENT
UID:69eb145411892
DTSTAMP:20260424T065724Z
DTSTART:20151205T220000Z
DTEND:20151205T010000Z
LOCATION:Stout 904 Broadway\,  Albany\,  NY 12207
SUMMARY:Stout
DESCRIPTION:\nhttps://vintagedrummerny.com/archives/events/stout
URL:https://vintagedrummerny.com/archives/events/stout
END:VEVENT
END:VCALENDAR