BEGIN:VCALENDAR
VERSION:2.0
PRODID:-//eventon.com NONSGML v1.0//EN
CALSCALE:GREGORIAN
METHOD:PUBLISH
BEGIN:VEVENT
UID:69eb14bda2330
DTSTAMP:20260424T065909Z
DTSTART:20151204
DTEND:20151205
LOCATION:The Desmond 660 Albany Shaker Rd\,  Albany\,  NY 12211
SUMMARY:Private Party (sorry)
DESCRIPTION:\nhttps://vintagedrummerny.com/archives/events/private-party-so
 rry-12
URL:https://vintagedrummerny.com/archives/events/private-party-sorry-12
END:VEVENT
END:VCALENDAR