BEGIN:VCALENDAR
VERSION:2.0
PRODID:-//eventon.com NONSGML v1.0//EN
CALSCALE:GREGORIAN
METHOD:PUBLISH
BEGIN:VEVENT
UID:69eb14bd59627
DTSTAMP:20260424T065909Z
DTSTART:20151107T210000Z
DTEND:20151107T010000Z
LOCATION:Katie O&#039;Byrne&#039;s Erie Blvd\,  Schenectady\,  NY 12305
SUMMARY:Katie O'Byrne's
DESCRIPTION:\nhttps://vintagedrummerny.com/archives/events/katie-obyrnes
URL:https://vintagedrummerny.com/archives/events/katie-obyrnes
END:VEVENT
END:VCALENDAR