BEGIN:VCALENDAR
VERSION:2.0
PRODID:-//eventon.com NONSGML v1.0//EN
CALSCALE:GREGORIAN
METHOD:PUBLISH
BEGIN:VEVENT
UID:69eb15087e97e
DTSTAMP:20260424T070024Z
DTSTART:20151017
DTEND:20151018
LOCATION:Hunter Mountain 64 Klein Ave.\,  Hunter\,  NY 12442
SUMMARY:Private Party (sorry)
DESCRIPTION:\nhttps://vintagedrummerny.com/archives/events/private-party-so
 rry-10
URL:https://vintagedrummerny.com/archives/events/private-party-sorry-10
END:VEVENT
END:VCALENDAR