BEGIN:VCALENDAR
VERSION:2.0
PRODID:-//eventon.com NONSGML v1.0//EN
CALSCALE:GREGORIAN
METHOD:PUBLISH
BEGIN:VEVENT
UID:69eb14182735f
DTSTAMP:20260424T065624Z
DTSTART:20151009
DTEND:20151010
LOCATION:Saratoga National Golf Club 458 Union Ave.\,  Saratoga Springs\,  NY 12866
SUMMARY:Private Party (sorry)
DESCRIPTION:\nhttps://vintagedrummerny.com/archives/events/private-party-so
 rry-8
URL:https://vintagedrummerny.com/archives/events/private-party-sorry-8
END:VEVENT
END:VCALENDAR