BEGIN:VCALENDAR
VERSION:2.0
PRODID:-//eventon.com NONSGML v1.0//EN
CALSCALE:GREGORIAN
METHOD:PUBLISH
BEGIN:VEVENT
UID:69eb14512c2d5
DTSTAMP:20260424T065721Z
DTSTART:20151004
DTEND:20151005
LOCATION:Crooked Lake House 2339 New York 43 Averill Park\,  NY 12018
SUMMARY:Private Party (sorry)
DESCRIPTION:\nhttps://vintagedrummerny.com/archives/events/private-party-so
 rry-7
URL:https://vintagedrummerny.com/archives/events/private-party-sorry-7
END:VEVENT
END:VCALENDAR