BEGIN:VCALENDAR
VERSION:2.0
PRODID:-//eventon.com NONSGML v1.0//EN
CALSCALE:GREGORIAN
METHOD:PUBLISH
BEGIN:VEVENT
UID:69eb1516882d9
DTSTAMP:20260424T070038Z
DTSTART:20151003
DTEND:20151004
LOCATION:Hall of Springs 108 Avenue of the Pines\,  Saratoga Springs\,  NY 12866
SUMMARY:Private Party (sorry)
DESCRIPTION:\nhttps://vintagedrummerny.com/archives/events/private-party-so
 rry-6
URL:https://vintagedrummerny.com/archives/events/private-party-sorry-6
END:VEVENT
END:VCALENDAR