BEGIN:VCALENDAR
VERSION:2.0
PRODID:-//eventon.com NONSGML v1.0//EN
CALSCALE:GREGORIAN
METHOD:PUBLISH
BEGIN:VEVENT
UID:69eb1413a9b9c
DTSTAMP:20260424T065619Z
DTSTART:20150925
DTEND:20150926
LOCATION:Hildene 1005 Hildene Rd\,  Manchester\,  VT 05254
SUMMARY:Private Party (sorry)
DESCRIPTION:\nhttps://vintagedrummerny.com/archives/events/private-party-so
 rry-3
URL:https://vintagedrummerny.com/archives/events/private-party-sorry-3
END:VEVENT
END:VCALENDAR