BEGIN:VCALENDAR
VERSION:2.0
PRODID:-//eventon.com NONSGML v1.0//EN
CALSCALE:GREGORIAN
METHOD:PUBLISH
BEGIN:VEVENT
UID:69eb14be29382
DTSTAMP:20260424T065910Z
DTSTART:20150919
DTEND:20150920
LOCATION:Columbia County Fairgrounds 182 Hudson Ave\,  Chatham\,  NY 12037
SUMMARY:Private Party (sorry)
DESCRIPTION:\nhttps://vintagedrummerny.com/archives/events/private-party-so
 rry-2
URL:https://vintagedrummerny.com/archives/events/private-party-sorry-2
END:VEVENT
END:VCALENDAR