BEGIN:VCALENDAR
VERSION:2.0
PRODID:-//eventon.com NONSGML v1.0//EN
CALSCALE:GREGORIAN
METHOD:PUBLISH
BEGIN:VEVENT
UID:69eb153165258
DTSTAMP:20260424T070105Z
DTSTART:20150918T210000Z
DTEND:20150918T010000Z
LOCATION:Centre Streer Pub 308 Union St\,  Schenectady\,  NY 12305
SUMMARY:Centre Street Pub
DESCRIPTION:\nhttps://vintagedrummerny.com/archives/events/centre-street-pu
 b
URL:https://vintagedrummerny.com/archives/events/centre-street-pub
END:VEVENT
END:VCALENDAR